BEGIN:VCALENDAR
VERSION:2.0
PRODID:-//DullesDistrict.Com - ECPv6.15.20//NONSGML v1.0//EN
CALSCALE:GREGORIAN
METHOD:PUBLISH
X-WR-CALNAME:DullesDistrict.Com
X-ORIGINAL-URL:https://dullesdistrict.com
X-WR-CALDESC:Events for DullesDistrict.Com
REFRESH-INTERVAL;VALUE=DURATION:PT1H
X-Robots-Tag:noindex
X-PUBLISHED-TTL:PT1H
BEGIN:VTIMEZONE
TZID:America/New_York
BEGIN:DAYLIGHT
TZOFFSETFROM:-0500
TZOFFSETTO:-0400
TZNAME:EDT
DTSTART:20250309T070000
END:DAYLIGHT
BEGIN:STANDARD
TZOFFSETFROM:-0400
TZOFFSETTO:-0500
TZNAME:EST
DTSTART:20251102T060000
END:STANDARD
BEGIN:DAYLIGHT
TZOFFSETFROM:-0500
TZOFFSETTO:-0400
TZNAME:EDT
DTSTART:20260308T070000
END:DAYLIGHT
BEGIN:STANDARD
TZOFFSETFROM:-0400
TZOFFSETTO:-0500
TZNAME:EST
DTSTART:20261101T060000
END:STANDARD
BEGIN:DAYLIGHT
TZOFFSETFROM:-0500
TZOFFSETTO:-0400
TZNAME:EDT
DTSTART:20270314T070000
END:DAYLIGHT
BEGIN:STANDARD
TZOFFSETFROM:-0400
TZOFFSETTO:-0500
TZNAME:EST
DTSTART:20271107T060000
END:STANDARD
END:VTIMEZONE
BEGIN:VEVENT
DTSTART;TZID=America/New_York:20260326T142000
DTEND;TZID=America/New_York:20260326T170000
DTSTAMP:20260424T061954
CREATED:20260202T031214Z
LAST-MODIFIED:20260202T130541Z
UID:9933-1774534800-1774544400@dullesdistrict.com
SUMMARY:OPENING DAY:Nationals at Cubs
DESCRIPTION:Wrigley Field – Chicago
URL:https://dullesdistrict.com/event/nationals-at-cubs-8/
CATEGORIES:Washington Nationals
END:VEVENT
BEGIN:VEVENT
DTSTART;TZID=America/New_York:20260328T142000
DTEND;TZID=America/New_York:20260328T170000
DTSTAMP:20260424T061954
CREATED:20260202T031214Z
LAST-MODIFIED:20260202T133033Z
UID:9934-1774707600-1774717200@dullesdistrict.com
SUMMARY:Nationals at Cubs
DESCRIPTION:Wrigley Field – Chicago
URL:https://dullesdistrict.com/event/nationals-at-cubs-9/
CATEGORIES:Washington Nationals
END:VEVENT
BEGIN:VEVENT
DTSTART;TZID=America/New_York:20260329T142000
DTEND;TZID=America/New_York:20260329T170000
DTSTAMP:20260424T061954
CREATED:20260202T031215Z
LAST-MODIFIED:20260202T133205Z
UID:9935-1774794000-1774803600@dullesdistrict.com
SUMMARY:Nationals at Cubs
DESCRIPTION:Wrigley Field – Chicago
URL:https://dullesdistrict.com/event/nationals-at-cubs-10/
CATEGORIES:Washington Nationals
END:VEVENT
BEGIN:VEVENT
DTSTART;TZID=America/New_York:20260330T184000
DTEND;TZID=America/New_York:20260330T210000
DTSTAMP:20260424T061954
CREATED:20260202T031215Z
LAST-MODIFIED:20260202T133245Z
UID:9936-1774896000-1774904400@dullesdistrict.com
SUMMARY:Nationals at Phillies
DESCRIPTION:Citizens Bank Park – Philadelphia
URL:https://dullesdistrict.com/event/nationals-at-phillies-11/
CATEGORIES:Washington Nationals
END:VEVENT
BEGIN:VEVENT
DTSTART;TZID=America/New_York:20260331T184000
DTEND;TZID=America/New_York:20260331T210000
DTSTAMP:20260424T061954
CREATED:20260202T031216Z
LAST-MODIFIED:20260202T133320Z
UID:9937-1774982400-1774990800@dullesdistrict.com
SUMMARY:Nationals at Phillies
DESCRIPTION:Citizens Bank Park – Philadelphia
URL:https://dullesdistrict.com/event/nationals-at-phillies-12/
CATEGORIES:Washington Nationals
END:VEVENT
END:VCALENDAR