BEGIN:VCALENDAR
VERSION:2.0
PRODID:-//DullesDistrict.Com - ECPv6.15.20//NONSGML v1.0//EN
CALSCALE:GREGORIAN
METHOD:PUBLISH
X-ORIGINAL-URL:https://dullesdistrict.com
X-WR-CALDESC:Events for DullesDistrict.Com
REFRESH-INTERVAL;VALUE=DURATION:PT1H
X-Robots-Tag:noindex
X-PUBLISHED-TTL:PT1H
BEGIN:VTIMEZONE
TZID:America/New_York
BEGIN:DAYLIGHT
TZOFFSETFROM:-0500
TZOFFSETTO:-0400
TZNAME:EDT
DTSTART:20250309T070000
END:DAYLIGHT
BEGIN:STANDARD
TZOFFSETFROM:-0400
TZOFFSETTO:-0500
TZNAME:EST
DTSTART:20251102T060000
END:STANDARD
BEGIN:DAYLIGHT
TZOFFSETFROM:-0500
TZOFFSETTO:-0400
TZNAME:EDT
DTSTART:20260308T070000
END:DAYLIGHT
BEGIN:STANDARD
TZOFFSETFROM:-0400
TZOFFSETTO:-0500
TZNAME:EST
DTSTART:20261101T060000
END:STANDARD
BEGIN:DAYLIGHT
TZOFFSETFROM:-0500
TZOFFSETTO:-0400
TZNAME:EDT
DTSTART:20270314T070000
END:DAYLIGHT
BEGIN:STANDARD
TZOFFSETFROM:-0400
TZOFFSETTO:-0500
TZNAME:EST
DTSTART:20271107T060000
END:STANDARD
END:VTIMEZONE
BEGIN:VEVENT
DTSTART;TZID=America/New_York:20260422T184500
DTEND;TZID=America/New_York:20260422T213000
DTSTAMP:20260424T073959
CREATED:20260202T031538Z
LAST-MODIFIED:20260202T140009Z
UID:9957-1776883500-1776893400@dullesdistrict.com
SUMMARY:Braves at Nationals
DESCRIPTION:Nationals Park – Washington
URL:https://dullesdistrict.com/event/braves-at-nationals-15/
CATEGORIES:Washington Nationals
END:VEVENT
BEGIN:VEVENT
DTSTART;TZID=America/New_York:20260423T130500
DTEND;TZID=America/New_York:20260423T160000
DTSTAMP:20260424T073959
CREATED:20260202T031551Z
LAST-MODIFIED:20260202T140022Z
UID:9958-1776949500-1776960000@dullesdistrict.com
SUMMARY:Braves at Nationals
DESCRIPTION:Nationals Park – Washington
URL:https://dullesdistrict.com/event/braves-at-nationals-16/
CATEGORIES:Washington Nationals
END:VEVENT
BEGIN:VEVENT
DTSTART;TZID=America/New_York:20260424T194000
DTEND;TZID=America/New_York:20260424T223000
DTSTAMP:20260424T073959
CREATED:20260202T031551Z
LAST-MODIFIED:20260202T140142Z
UID:9959-1777059600-1777069800@dullesdistrict.com
SUMMARY:Nationals at White Sox
DESCRIPTION:Rate Field – Chicago
URL:https://dullesdistrict.com/event/nationals-at-white-sox-4/
CATEGORIES:Washington Nationals
END:VEVENT
BEGIN:VEVENT
DTSTART;TZID=America/New_York:20260425T161000
DTEND;TZID=America/New_York:20260425T190000
DTSTAMP:20260424T073959
CREATED:20260202T031552Z
LAST-MODIFIED:20260202T140153Z
UID:9960-1777133400-1777143600@dullesdistrict.com
SUMMARY:Nationals at White Sox
DESCRIPTION:Rate Field – Chicago
URL:https://dullesdistrict.com/event/nationals-at-white-sox-5/
CATEGORIES:Washington Nationals
END:VEVENT
BEGIN:VEVENT
DTSTART;TZID=America/New_York:20260426T141000
DTEND;TZID=America/New_York:20260426T170000
DTSTAMP:20260424T073959
CREATED:20260202T031552Z
LAST-MODIFIED:20260202T140206Z
UID:9961-1777212600-1777222800@dullesdistrict.com
SUMMARY:Nationals at White Sox
DESCRIPTION:Rate Field – Chicago
URL:https://dullesdistrict.com/event/nationals-at-white-sox-6/
CATEGORIES:Washington Nationals
END:VEVENT
BEGIN:VEVENT
DTSTART;TZID=America/New_York:20260428T191000
DTEND;TZID=America/New_York:20260428T220000
DTSTAMP:20260424T073959
CREATED:20260202T031552Z
LAST-MODIFIED:20260202T140217Z
UID:9962-1777403400-1777413600@dullesdistrict.com
SUMMARY:Nationals at Mets
DESCRIPTION:Citi Field – Flushing
URL:https://dullesdistrict.com/event/nationals-at-mets-16/
CATEGORIES:Washington Nationals
END:VEVENT
BEGIN:VEVENT
DTSTART;TZID=America/New_York:20260429T191000
DTEND;TZID=America/New_York:20260429T220000
DTSTAMP:20260424T073959
CREATED:20260202T031608Z
LAST-MODIFIED:20260202T140227Z
UID:9963-1777489800-1777500000@dullesdistrict.com
SUMMARY:Nationals at Mets
DESCRIPTION:Citi Field – Flushing
URL:https://dullesdistrict.com/event/nationals-at-mets-17/
CATEGORIES:Washington Nationals
END:VEVENT
BEGIN:VEVENT
DTSTART;TZID=America/New_York:20260430T131000
DTEND;TZID=America/New_York:20260430T160000
DTSTAMP:20260424T073959
CREATED:20260202T031608Z
LAST-MODIFIED:20260202T140237Z
UID:9964-1777554600-1777564800@dullesdistrict.com
SUMMARY:Nationals at Mets
DESCRIPTION:Citi Field – Flushing
URL:https://dullesdistrict.com/event/nationals-at-mets-18/
CATEGORIES:Washington Nationals
END:VEVENT
BEGIN:VEVENT
DTSTART;TZID=America/New_York:20260501T184500
DTEND;TZID=America/New_York:20260501T213000
DTSTAMP:20260424T073959
CREATED:20260202T031608Z
LAST-MODIFIED:20260202T140623Z
UID:9965-1777661100-1777671000@dullesdistrict.com
SUMMARY:Brewers at Nationals
DESCRIPTION:Nationals Park – Washington
URL:https://dullesdistrict.com/event/brewers-at-nationals-7/
CATEGORIES:Washington Nationals
END:VEVENT
BEGIN:VEVENT
DTSTART;TZID=America/New_York:20260502T160500
DTEND;TZID=America/New_York:20260502T190000
DTSTAMP:20260424T073959
CREATED:20260202T031609Z
LAST-MODIFIED:20260202T140634Z
UID:9966-1777737900-1777748400@dullesdistrict.com
SUMMARY:Brewers at Nationals
DESCRIPTION:Nationals Park – Washington
URL:https://dullesdistrict.com/event/brewers-at-nationals-8/
CATEGORIES:Washington Nationals
END:VEVENT
BEGIN:VEVENT
DTSTART;TZID=America/New_York:20260503T133500
DTEND;TZID=America/New_York:20260503T163000
DTSTAMP:20260424T073959
CREATED:20260202T031609Z
LAST-MODIFIED:20260202T140646Z
UID:9967-1777815300-1777825800@dullesdistrict.com
SUMMARY:Brewers at Nationals
DESCRIPTION:Nationals Park – Washington
URL:https://dullesdistrict.com/event/brewers-at-nationals-9/
CATEGORIES:Washington Nationals
END:VEVENT
BEGIN:VEVENT
DTSTART;TZID=America/New_York:20260505T184500
DTEND;TZID=America/New_York:20260505T213000
DTSTAMP:20260424T073959
CREATED:20260202T031646Z
LAST-MODIFIED:20260202T140655Z
UID:9968-1778006700-1778016600@dullesdistrict.com
SUMMARY:Twins at Nationals
DESCRIPTION:Nationals Park – Washington
URL:https://dullesdistrict.com/event/twins-at-nationals-5/
CATEGORIES:Washington Nationals
END:VEVENT
BEGIN:VEVENT
DTSTART;TZID=America/New_York:20260506T184500
DTEND;TZID=America/New_York:20260506T213000
DTSTAMP:20260424T073959
CREATED:20260202T031646Z
LAST-MODIFIED:20260202T140708Z
UID:9969-1778093100-1778103000@dullesdistrict.com
SUMMARY:Twins at Nationals
DESCRIPTION:Nationals Park – Washington
URL:https://dullesdistrict.com/event/twins-at-nationals-6/
CATEGORIES:Washington Nationals
END:VEVENT
BEGIN:VEVENT
DTSTART;TZID=America/New_York:20260507T130500
DTEND;TZID=America/New_York:20260507T160000
DTSTAMP:20260424T073959
CREATED:20260202T031646Z
LAST-MODIFIED:20260202T140718Z
UID:9970-1778159100-1778169600@dullesdistrict.com
SUMMARY:Twins at Nationals
DESCRIPTION:Nationals Park – Washington
URL:https://dullesdistrict.com/event/twins-at-nationals-7/
CATEGORIES:Washington Nationals
END:VEVENT
BEGIN:VEVENT
DTSTART;TZID=America/New_York:20260508T191000
DTEND;TZID=America/New_York:20260508T220000
DTSTAMP:20260424T073959
CREATED:20260202T031647Z
LAST-MODIFIED:20260202T140927Z
UID:9971-1778267400-1778277600@dullesdistrict.com
SUMMARY:Nationals at Marlins
DESCRIPTION:loanDepot park – Miami
URL:https://dullesdistrict.com/event/nationals-at-marlins-14/
CATEGORIES:Washington Nationals
END:VEVENT
BEGIN:VEVENT
DTSTART;TZID=America/New_York:20260509T161000
DTEND;TZID=America/New_York:20260509T190000
DTSTAMP:20260424T073959
CREATED:20260202T031647Z
LAST-MODIFIED:20260202T140937Z
UID:9972-1778343000-1778353200@dullesdistrict.com
SUMMARY:Nationals at Marlins
DESCRIPTION:loanDepot park – Miami
URL:https://dullesdistrict.com/event/nationals-at-marlins-15/
CATEGORIES:Washington Nationals
END:VEVENT
BEGIN:VEVENT
DTSTART;TZID=America/New_York:20260510T121500
DTEND;TZID=America/New_York:20260510T150000
DTSTAMP:20260424T073959
CREATED:20260202T031701Z
LAST-MODIFIED:20260202T140949Z
UID:9973-1778415300-1778425200@dullesdistrict.com
SUMMARY:Nationals at Marlins
DESCRIPTION:loanDepot park – Miami
URL:https://dullesdistrict.com/event/nationals-at-marlins-16/
CATEGORIES:Washington Nationals
END:VEVENT
BEGIN:VEVENT
DTSTART;TZID=America/New_York:20260512T184000
DTEND;TZID=America/New_York:20260512T213000
DTSTAMP:20260424T073959
CREATED:20260202T031702Z
LAST-MODIFIED:20260202T141000Z
UID:9974-1778611200-1778621400@dullesdistrict.com
SUMMARY:Nationals at Reds
DESCRIPTION:Great American Ball Park – Cincinnati
URL:https://dullesdistrict.com/event/nationals-at-reds-4/
CATEGORIES:Washington Nationals
END:VEVENT
BEGIN:VEVENT
DTSTART;TZID=America/New_York:20260513T184000
DTEND;TZID=America/New_York:20260513T213000
DTSTAMP:20260424T073959
CREATED:20260202T031702Z
LAST-MODIFIED:20260202T141009Z
UID:9975-1778697600-1778707800@dullesdistrict.com
SUMMARY:Nationals at Reds
DESCRIPTION:Great American Ball Park – Cincinnati
URL:https://dullesdistrict.com/event/nationals-at-reds-5/
CATEGORIES:Washington Nationals
END:VEVENT
BEGIN:VEVENT
DTSTART;TZID=America/New_York:20260514T124000
DTEND;TZID=America/New_York:20260514T153000
DTSTAMP:20260424T073959
CREATED:20260202T031702Z
LAST-MODIFIED:20260202T141020Z
UID:9976-1778762400-1778772600@dullesdistrict.com
SUMMARY:Nationals at Reds
DESCRIPTION:Great American Ball Park – Cincinnati
URL:https://dullesdistrict.com/event/nationals-at-reds-6/
CATEGORIES:Washington Nationals
END:VEVENT
BEGIN:VEVENT
DTSTART;TZID=America/New_York:20260515T184500
DTEND;TZID=America/New_York:20260515T213000
DTSTAMP:20260424T073959
CREATED:20260202T031702Z
LAST-MODIFIED:20260202T141241Z
UID:9977-1778870700-1778880600@dullesdistrict.com
SUMMARY:Orioles at Nationals
DESCRIPTION:Nationals Park – Washington
URL:https://dullesdistrict.com/event/orioles-at-nationals-5/
CATEGORIES:Washington Nationals
END:VEVENT
BEGIN:VEVENT
DTSTART;TZID=America/New_York:20260516T160500
DTEND;TZID=America/New_York:20260516T190000
DTSTAMP:20260424T073959
CREATED:20260202T031827Z
LAST-MODIFIED:20260202T141252Z
UID:9978-1778947500-1778958000@dullesdistrict.com
SUMMARY:Orioles at Nationals
DESCRIPTION:Nationals Park – Washington
URL:https://dullesdistrict.com/event/orioles-at-nationals-6/
CATEGORIES:Washington Nationals
END:VEVENT
BEGIN:VEVENT
DTSTART;TZID=America/New_York:20260517T133500
DTEND;TZID=America/New_York:20260517T163000
DTSTAMP:20260424T073959
CREATED:20260202T031827Z
LAST-MODIFIED:20260202T141305Z
UID:9979-1779024900-1779035400@dullesdistrict.com
SUMMARY:Orioles at Nationals
DESCRIPTION:Nationals Park – Washington
URL:https://dullesdistrict.com/event/orioles-at-nationals-7/
CATEGORIES:Washington Nationals
END:VEVENT
BEGIN:VEVENT
DTSTART;TZID=America/New_York:20260518T184500
DTEND;TZID=America/New_York:20260518T213000
DTSTAMP:20260424T073959
CREATED:20260202T031827Z
LAST-MODIFIED:20260202T141315Z
UID:9980-1779129900-1779139800@dullesdistrict.com
SUMMARY:Mets at Nationals
DESCRIPTION:Nationals Park – Washington
URL:https://dullesdistrict.com/event/mets-at-nationals-14/
CATEGORIES:Washington Nationals
END:VEVENT
BEGIN:VEVENT
DTSTART;TZID=America/New_York:20260519T184500
DTEND;TZID=America/New_York:20260519T213000
DTSTAMP:20260424T073959
CREATED:20260202T031827Z
LAST-MODIFIED:20260202T141324Z
UID:9981-1779216300-1779226200@dullesdistrict.com
SUMMARY:Mets at Nationals
DESCRIPTION:Nationals Park – Washington
URL:https://dullesdistrict.com/event/mets-at-nationals-15/
CATEGORIES:Washington Nationals
END:VEVENT
BEGIN:VEVENT
DTSTART;TZID=America/New_York:20260520T184500
DTEND;TZID=America/New_York:20260520T213000
DTSTAMP:20260424T073959
CREATED:20260202T031828Z
LAST-MODIFIED:20260202T141333Z
UID:9982-1779302700-1779312600@dullesdistrict.com
SUMMARY:Mets at Nationals
DESCRIPTION:Nationals Park – Washington
URL:https://dullesdistrict.com/event/mets-at-nationals-16/
CATEGORIES:Washington Nationals
END:VEVENT
BEGIN:VEVENT
DTSTART;TZID=America/New_York:20260521T160500
DTEND;TZID=America/New_York:20260521T190000
DTSTAMP:20260424T073959
CREATED:20260202T031948Z
LAST-MODIFIED:20260202T141347Z
UID:9983-1779379500-1779390000@dullesdistrict.com
SUMMARY:Mets at Nationals
DESCRIPTION:Nationals Park – Washington
URL:https://dullesdistrict.com/event/mets-at-nationals-17/
CATEGORIES:Washington Nationals
END:VEVENT
BEGIN:VEVENT
DTSTART;TZID=America/New_York:20260522T191500
DTEND;TZID=America/New_York:20260522T220000
DTSTAMP:20260424T073959
CREATED:20260202T031948Z
LAST-MODIFIED:20260202T142003Z
UID:9984-1779477300-1779487200@dullesdistrict.com
SUMMARY:Nationals at Braves
DESCRIPTION:Truist Park – Atlanta
URL:https://dullesdistrict.com/event/nationals-at-braves-15/
CATEGORIES:Washington Nationals
END:VEVENT
BEGIN:VEVENT
DTSTART;TZID=America/New_York:20260523T161000
DTEND;TZID=America/New_York:20260523T190000
DTSTAMP:20260424T073959
CREATED:20260202T031948Z
LAST-MODIFIED:20260202T142033Z
UID:9985-1779552600-1779562800@dullesdistrict.com
SUMMARY:Nationals at Braves
DESCRIPTION:Truist Park – Atlanta
URL:https://dullesdistrict.com/event/nationals-at-braves-16/
CATEGORIES:Washington Nationals
END:VEVENT
BEGIN:VEVENT
DTSTART;TZID=America/New_York:20260524T161000
DTEND;TZID=America/New_York:20260524T190000
DTSTAMP:20260424T073959
CREATED:20260202T031948Z
LAST-MODIFIED:20260202T142044Z
UID:9986-1779639000-1779649200@dullesdistrict.com
SUMMARY:Nationals at Braves
DESCRIPTION:Truist Park – Atlanta
URL:https://dullesdistrict.com/event/nationals-at-braves-17/
CATEGORIES:Washington Nationals
END:VEVENT
END:VCALENDAR