BEGIN:VCALENDAR
VERSION:2.0
PRODID:-//DullesDistrict.Com - ECPv6.15.20//NONSGML v1.0//EN
CALSCALE:GREGORIAN
METHOD:PUBLISH
X-WR-CALNAME:DullesDistrict.Com
X-ORIGINAL-URL:https://dullesdistrict.com
X-WR-CALDESC:Events for DullesDistrict.Com
REFRESH-INTERVAL;VALUE=DURATION:PT1H
X-Robots-Tag:noindex
X-PUBLISHED-TTL:PT1H
BEGIN:VTIMEZONE
TZID:America/New_York
BEGIN:DAYLIGHT
TZOFFSETFROM:-0500
TZOFFSETTO:-0400
TZNAME:EDT
DTSTART:20250309T070000
END:DAYLIGHT
BEGIN:STANDARD
TZOFFSETFROM:-0400
TZOFFSETTO:-0500
TZNAME:EST
DTSTART:20251102T060000
END:STANDARD
BEGIN:DAYLIGHT
TZOFFSETFROM:-0500
TZOFFSETTO:-0400
TZNAME:EDT
DTSTART:20260308T070000
END:DAYLIGHT
BEGIN:STANDARD
TZOFFSETFROM:-0400
TZOFFSETTO:-0500
TZNAME:EST
DTSTART:20261101T060000
END:STANDARD
BEGIN:DAYLIGHT
TZOFFSETFROM:-0500
TZOFFSETTO:-0400
TZNAME:EDT
DTSTART:20270314T070000
END:DAYLIGHT
BEGIN:STANDARD
TZOFFSETFROM:-0400
TZOFFSETTO:-0500
TZNAME:EST
DTSTART:20271107T060000
END:STANDARD
END:VTIMEZONE
BEGIN:VEVENT
DTSTART;TZID=America/New_York:20260523T161000
DTEND;TZID=America/New_York:20260523T190000
DTSTAMP:20260424T083732
CREATED:20260202T031948Z
LAST-MODIFIED:20260202T142033Z
UID:9985-1779552600-1779562800@dullesdistrict.com
SUMMARY:Nationals at Braves
DESCRIPTION:Truist Park – Atlanta
URL:https://dullesdistrict.com/event/nationals-at-braves-16/
CATEGORIES:Washington Nationals
END:VEVENT
BEGIN:VEVENT
DTSTART;TZID=America/New_York:20260524T161000
DTEND;TZID=America/New_York:20260524T190000
DTSTAMP:20260424T083732
CREATED:20260202T031948Z
LAST-MODIFIED:20260202T142044Z
UID:9986-1779639000-1779649200@dullesdistrict.com
SUMMARY:Nationals at Braves
DESCRIPTION:Truist Park – Atlanta
URL:https://dullesdistrict.com/event/nationals-at-braves-17/
CATEGORIES:Washington Nationals
END:VEVENT
BEGIN:VEVENT
DTSTART;TZID=America/New_York:20260525T181000
DTEND;TZID=America/New_York:20260525T210000
DTSTAMP:20260424T083732
CREATED:20260202T031948Z
LAST-MODIFIED:20260202T142053Z
UID:9987-1779732600-1779742800@dullesdistrict.com
SUMMARY:Nationals at Guardians
DESCRIPTION:Progressive Field – Cleveland
URL:https://dullesdistrict.com/event/nationals-at-guardians-4/
CATEGORIES:Washington Nationals
END:VEVENT
BEGIN:VEVENT
DTSTART;TZID=America/New_York:20260526T181000
DTEND;TZID=America/New_York:20260526T210000
DTSTAMP:20260424T083732
CREATED:20260202T032148Z
LAST-MODIFIED:20260202T142102Z
UID:9988-1779819000-1779829200@dullesdistrict.com
SUMMARY:Nationals at Guardians
DESCRIPTION:Progressive Field – Cleveland
URL:https://dullesdistrict.com/event/nationals-at-guardians-5/
CATEGORIES:Washington Nationals
END:VEVENT
BEGIN:VEVENT
DTSTART;TZID=America/New_York:20260527T131000
DTEND;TZID=America/New_York:20260527T160000
DTSTAMP:20260424T083732
CREATED:20260202T032149Z
LAST-MODIFIED:20260202T142114Z
UID:9989-1779887400-1779897600@dullesdistrict.com
SUMMARY:Nationals at Guardians
DESCRIPTION:Progressive Field – Cleveland
URL:https://dullesdistrict.com/event/nationals-at-guardians-6/
CATEGORIES:Washington Nationals
END:VEVENT
BEGIN:VEVENT
DTSTART;TZID=America/New_York:20260529T184500
DTEND;TZID=America/New_York:20260529T213000
DTSTAMP:20260424T083732
CREATED:20260202T032150Z
LAST-MODIFIED:20260202T142123Z
UID:9990-1780080300-1780090200@dullesdistrict.com
SUMMARY:Padres at Nationals
DESCRIPTION:Nationals Park – Washington
URL:https://dullesdistrict.com/event/padres-at-nationals-7/
CATEGORIES:Washington Nationals
END:VEVENT
BEGIN:VEVENT
DTSTART;TZID=America/New_York:20260530T160500
DTEND;TZID=America/New_York:20260530T190000
DTSTAMP:20260424T083732
CREATED:20260202T032150Z
LAST-MODIFIED:20260202T143520Z
UID:9991-1780157100-1780167600@dullesdistrict.com
SUMMARY:Padres at Nationals
DESCRIPTION:Nationals Park – Washington
URL:https://dullesdistrict.com/event/padres-at-nationals-8/
CATEGORIES:Washington Nationals
END:VEVENT
BEGIN:VEVENT
DTSTART;TZID=America/New_York:20260531T133500
DTEND;TZID=America/New_York:20260531T163000
DTSTAMP:20260424T083732
CREATED:20260202T032150Z
LAST-MODIFIED:20260202T143533Z
UID:9992-1780234500-1780245000@dullesdistrict.com
SUMMARY:Padres at Nationals
DESCRIPTION:Nationals Park – Washington
URL:https://dullesdistrict.com/event/padres-at-nationals-9/
CATEGORIES:Washington Nationals
END:VEVENT
BEGIN:VEVENT
DTSTART;TZID=America/New_York:20260601T184500
DTEND;TZID=America/New_York:20260601T213000
DTSTAMP:20260424T083732
CREATED:20260202T032349Z
LAST-MODIFIED:20260202T143543Z
UID:9993-1780339500-1780349400@dullesdistrict.com
SUMMARY:Marlins at Nationals
DESCRIPTION:Nationals Park – Washington
URL:https://dullesdistrict.com/event/marlins-at-nationals-17/
CATEGORIES:Washington Nationals
END:VEVENT
BEGIN:VEVENT
DTSTART;TZID=America/New_York:20260602T184500
DTEND;TZID=America/New_York:20260602T213000
DTSTAMP:20260424T083732
CREATED:20260202T032350Z
LAST-MODIFIED:20260202T143553Z
UID:9994-1780425900-1780435800@dullesdistrict.com
SUMMARY:Marlins at Nationals
DESCRIPTION:Nationals Park – Washington
URL:https://dullesdistrict.com/event/marlins-at-nationals-18/
CATEGORIES:Washington Nationals
END:VEVENT
BEGIN:VEVENT
DTSTART;TZID=America/New_York:20260603T130500
DTEND;TZID=America/New_York:20260603T160000
DTSTAMP:20260424T083732
CREATED:20260202T032350Z
LAST-MODIFIED:20260202T143603Z
UID:9995-1780491900-1780502400@dullesdistrict.com
SUMMARY:Marlins at Nationals
DESCRIPTION:Nationals Park – Washington
URL:https://dullesdistrict.com/event/marlins-at-nationals-19/
CATEGORIES:Washington Nationals
END:VEVENT
BEGIN:VEVENT
DTSTART;TZID=America/New_York:20260605T214000
DTEND;TZID=America/New_York:20260605T233000
DTSTAMP:20260424T083732
CREATED:20260202T032350Z
LAST-MODIFIED:20260202T143623Z
UID:9996-1780695600-1780702200@dullesdistrict.com
SUMMARY:Nationals at D-backs
DESCRIPTION:Chase Field – Phoenix
URL:https://dullesdistrict.com/event/nationals-at-d-backs-7/
CATEGORIES:Washington Nationals
END:VEVENT
BEGIN:VEVENT
DTSTART;TZID=America/New_York:20260606T161000
DTEND;TZID=America/New_York:20260606T190000
DTSTAMP:20260424T083732
CREATED:20260202T032350Z
LAST-MODIFIED:20260202T143636Z
UID:9997-1780762200-1780772400@dullesdistrict.com
SUMMARY:Nationals at D-backs
DESCRIPTION:Chase Field – Phoenix
URL:https://dullesdistrict.com/event/nationals-at-d-backs-8/
CATEGORIES:Washington Nationals
END:VEVENT
BEGIN:VEVENT
DTSTART;TZID=America/New_York:20260607T151500
DTEND;TZID=America/New_York:20260607T180000
DTSTAMP:20260424T083732
CREATED:20260202T032405Z
LAST-MODIFIED:20260202T143647Z
UID:9998-1780845300-1780855200@dullesdistrict.com
SUMMARY:Nationals at D-backs
DESCRIPTION:Chase Field – Phoenix
URL:https://dullesdistrict.com/event/nationals-at-d-backs-9/
CATEGORIES:Washington Nationals
END:VEVENT
BEGIN:VEVENT
DTSTART;TZID=America/New_York:20260608T214500
DTEND;TZID=America/New_York:20260608T233000
DTSTAMP:20260424T083732
CREATED:20260202T032406Z
LAST-MODIFIED:20260202T143951Z
UID:9999-1780955100-1780961400@dullesdistrict.com
SUMMARY:Nationals at Giants
DESCRIPTION:Oracle Park – San Francisco
URL:https://dullesdistrict.com/event/nationals-at-giants-7/
CATEGORIES:Washington Nationals
END:VEVENT
BEGIN:VEVENT
DTSTART;TZID=America/New_York:20260609T214500
DTEND;TZID=America/New_York:20260609T233000
DTSTAMP:20260424T083732
CREATED:20260202T032406Z
LAST-MODIFIED:20260202T144001Z
UID:10000-1781041500-1781047800@dullesdistrict.com
SUMMARY:Nationals at Giants
DESCRIPTION:Oracle Park – San Francisco
URL:https://dullesdistrict.com/event/nationals-at-giants-8/
CATEGORIES:Washington Nationals
END:VEVENT
BEGIN:VEVENT
DTSTART;TZID=America/New_York:20260610T154500
DTEND;TZID=America/New_York:20260610T183000
DTSTAMP:20260424T083732
CREATED:20260202T032407Z
LAST-MODIFIED:20260202T144014Z
UID:10001-1781106300-1781116200@dullesdistrict.com
SUMMARY:Nationals at Giants
DESCRIPTION:Oracle Park – San Francisco
URL:https://dullesdistrict.com/event/nationals-at-giants-9/
CATEGORIES:Washington Nationals
END:VEVENT
BEGIN:VEVENT
DTSTART;TZID=America/New_York:20260612T184500
DTEND;TZID=America/New_York:20260612T213000
DTSTAMP:20260424T083732
CREATED:20260202T032408Z
LAST-MODIFIED:20260202T144023Z
UID:10002-1781289900-1781299800@dullesdistrict.com
SUMMARY:Mariners at Nationals
DESCRIPTION:Nationals Park – Washington
URL:https://dullesdistrict.com/event/mariners-at-nationals-4/
CATEGORIES:Washington Nationals
END:VEVENT
BEGIN:VEVENT
DTSTART;TZID=America/New_York:20260613T160500
DTEND;TZID=America/New_York:20260613T190000
DTSTAMP:20260424T083732
CREATED:20260202T032606Z
LAST-MODIFIED:20260202T144031Z
UID:10003-1781366700-1781377200@dullesdistrict.com
SUMMARY:Mariners at Nationals
DESCRIPTION:Nationals Park – Washington
URL:https://dullesdistrict.com/event/mariners-at-nationals-5/
CATEGORIES:Washington Nationals
END:VEVENT
BEGIN:VEVENT
DTSTART;TZID=America/New_York:20260614T133500
DTEND;TZID=America/New_York:20260614T163000
DTSTAMP:20260424T083732
CREATED:20260202T032607Z
LAST-MODIFIED:20260202T144043Z
UID:10004-1781444100-1781454600@dullesdistrict.com
SUMMARY:Mariners at Nationals
DESCRIPTION:Nationals Park – Washington
URL:https://dullesdistrict.com/event/mariners-at-nationals-6/
CATEGORIES:Washington Nationals
END:VEVENT
BEGIN:VEVENT
DTSTART;TZID=America/New_York:20260615T184500
DTEND;TZID=America/New_York:20260615T213000
DTSTAMP:20260424T083732
CREATED:20260202T032607Z
LAST-MODIFIED:20260202T144054Z
UID:10005-1781549100-1781559000@dullesdistrict.com
SUMMARY:Royals at Nationals
DESCRIPTION:Nationals Park – Washington
URL:https://dullesdistrict.com/event/royals-at-nationals-4/
CATEGORIES:Washington Nationals
END:VEVENT
BEGIN:VEVENT
DTSTART;TZID=America/New_York:20260616T184500
DTEND;TZID=America/New_York:20260616T213000
DTSTAMP:20260424T083732
CREATED:20260202T032607Z
LAST-MODIFIED:20260202T144105Z
UID:10006-1781635500-1781645400@dullesdistrict.com
SUMMARY:Royals at Nationals
DESCRIPTION:Nationals Park – Washington
URL:https://dullesdistrict.com/event/royals-at-nationals-5/
CATEGORIES:Washington Nationals
END:VEVENT
BEGIN:VEVENT
DTSTART;TZID=America/New_York:20260617T130500
DTEND;TZID=America/New_York:20260617T160000
DTSTAMP:20260424T083732
CREATED:20260202T032607Z
LAST-MODIFIED:20260202T144112Z
UID:10007-1781701500-1781712000@dullesdistrict.com
SUMMARY:Royals at Nationals
DESCRIPTION:Nationals Park – Washington
URL:https://dullesdistrict.com/event/royals-at-nationals-6/
CATEGORIES:Washington Nationals
END:VEVENT
BEGIN:VEVENT
DTSTART;TZID=America/New_York:20260619T191000
DTEND;TZID=America/New_York:20260619T220000
DTSTAMP:20260424T083732
CREATED:20260202T032625Z
LAST-MODIFIED:20260202T144123Z
UID:10008-1781896200-1781906400@dullesdistrict.com
SUMMARY:Nationals at Rays
DESCRIPTION:Tropicana Field – St. Petersburg
URL:https://dullesdistrict.com/event/nationals-at-rays-4/
CATEGORIES:Washington Nationals
END:VEVENT
BEGIN:VEVENT
DTSTART;TZID=America/New_York:20260620T161000
DTEND;TZID=America/New_York:20260620T190000
DTSTAMP:20260424T083732
CREATED:20260202T032625Z
LAST-MODIFIED:20260202T144452Z
UID:10009-1781971800-1781982000@dullesdistrict.com
SUMMARY:Nationals at Rays
DESCRIPTION:Tropicana Field – St. Petersburg
URL:https://dullesdistrict.com/event/nationals-at-rays-5/
CATEGORIES:Washington Nationals
END:VEVENT
BEGIN:VEVENT
DTSTART;TZID=America/New_York:20260621T134000
DTEND;TZID=America/New_York:20260621T163000
DTSTAMP:20260424T083732
CREATED:20260202T032625Z
LAST-MODIFIED:20260202T144508Z
UID:10010-1782049200-1782059400@dullesdistrict.com
SUMMARY:Nationals at Rays
DESCRIPTION:Tropicana Field – St. Petersburg
URL:https://dullesdistrict.com/event/nationals-at-rays-6/
CATEGORIES:Washington Nationals
END:VEVENT
BEGIN:VEVENT
DTSTART;TZID=America/New_York:20260622T184500
DTEND;TZID=America/New_York:20260622T213000
DTSTAMP:20260424T083732
CREATED:20260202T032626Z
LAST-MODIFIED:20260202T144519Z
UID:10011-1782153900-1782163800@dullesdistrict.com
SUMMARY:Phillies at Nationals
DESCRIPTION:Nationals Park – Washington
URL:https://dullesdistrict.com/event/phillies-at-nationals-11/
CATEGORIES:Washington Nationals
END:VEVENT
BEGIN:VEVENT
DTSTART;TZID=America/New_York:20260623T184500
DTEND;TZID=America/New_York:20260623T213000
DTSTAMP:20260424T083732
CREATED:20260202T032626Z
LAST-MODIFIED:20260202T144530Z
UID:10012-1782240300-1782250200@dullesdistrict.com
SUMMARY:Phillies at Nationals
DESCRIPTION:Nationals Park – Washington
URL:https://dullesdistrict.com/event/phillies-at-nationals-12/
CATEGORIES:Washington Nationals
END:VEVENT
BEGIN:VEVENT
DTSTART;TZID=America/New_York:20260624T184500
DTEND;TZID=America/New_York:20260624T213000
DTSTAMP:20260424T083732
CREATED:20260202T032826Z
LAST-MODIFIED:20260202T144537Z
UID:10013-1782326700-1782336600@dullesdistrict.com
SUMMARY:Phillies at Nationals
DESCRIPTION:Nationals Park – Washington
URL:https://dullesdistrict.com/event/phillies-at-nationals-13/
CATEGORIES:Washington Nationals
END:VEVENT
BEGIN:VEVENT
DTSTART;TZID=America/New_York:20260625T184500
DTEND;TZID=America/New_York:20260625T213000
DTSTAMP:20260424T083732
CREATED:20260202T032827Z
LAST-MODIFIED:20260202T144553Z
UID:10014-1782413100-1782423000@dullesdistrict.com
SUMMARY:Phillies at Nationals
DESCRIPTION:Nationals Park – Washington
URL:https://dullesdistrict.com/event/phillies-at-nationals-14/
CATEGORIES:Washington Nationals
END:VEVENT
END:VCALENDAR